BEGIN:VCALENDAR
VERSION:2.0
PRODID:-//SABINE WESPIESER ÉDITEUR - ECPv5.1.0//NONSGML v1.0//EN
CALSCALE:GREGORIAN
METHOD:PUBLISH
X-WR-CALNAME:SABINE WESPIESER ÉDITEUR
X-ORIGINAL-URL:https://www.swediteur.com
X-WR-CALDESC:Évènements pour SABINE WESPIESER ÉDITEUR
BEGIN:VTIMEZONE
TZID:Europe/Paris
BEGIN:DAYLIGHT
TZOFFSETFROM:+0100
TZOFFSETTO:+0200
TZNAME:CEST
DTSTART:20260329T010000
END:DAYLIGHT
BEGIN:STANDARD
TZOFFSETFROM:+0200
TZOFFSETTO:+0100
TZNAME:CET
DTSTART:20261025T010000
END:STANDARD
END:VTIMEZONE
BEGIN:VEVENT
DTSTART;VALUE=DATE:20260424
DTEND;VALUE=DATE:20260425
DTSTAMP:20260420T041158
CREATED:20260112T150600Z
LAST-MODIFIED:20260112T150600Z
UID:47772-1776988800-1777075199@www.swediteur.com
SUMMARY:Michèle Lesbre au Festival Entrelivres (Draguignan)
DESCRIPTION:Michèle Lesbre sera au Festival Entrelivres pour parler de son dernier récit\, « Naufrage(s) ». \n
URL:https://www.swediteur.com/rencontre/michele-lesbre-au-festival-entrelivres-draguignan/
LOCATION:Draguignan\, France
END:VEVENT
END:VCALENDAR