BEGIN:VCALENDAR
VERSION:2.0
PRODID:-//SABINE WESPIESER ÉDITEUR - ECPv5.1.0//NONSGML v1.0//EN
CALSCALE:GREGORIAN
METHOD:PUBLISH
X-WR-CALNAME:SABINE WESPIESER ÉDITEUR
X-ORIGINAL-URL:https://www.swediteur.com
X-WR-CALDESC:Évènements pour SABINE WESPIESER ÉDITEUR
BEGIN:VTIMEZONE
TZID:Europe/Paris
BEGIN:DAYLIGHT
TZOFFSETFROM:+0100
TZOFFSETTO:+0200
TZNAME:CEST
DTSTART:20260329T010000
END:DAYLIGHT
BEGIN:STANDARD
TZOFFSETFROM:+0200
TZOFFSETTO:+0100
TZNAME:CET
DTSTART:20261025T010000
END:STANDARD
END:VTIMEZONE
BEGIN:VEVENT
DTSTART;VALUE=DATE:20260606
DTEND;VALUE=DATE:20260608
DTSTAMP:20260419T115545
CREATED:20260106T151241Z
LAST-MODIFIED:20260106T151241Z
UID:46760-1780704000-1780876799@www.swediteur.com
SUMMARY:Michèle Lesbre aux Rencontres de la Baie à Carantec
DESCRIPTION:Michèle Lesbre participera au festival Les Rencontres de la Baie pour vous parler de son nouveau récit « Naufrage(s) ». \n
URL:https://www.swediteur.com/rencontre/michele-lesbre-aux-rencontres-de-la-baie-a-carantec/
ATTACH;FMTTYPE=image/jpeg:https://www.swediteur.com/wp-content/uploads/2025/06/Naufrages.jpg
END:VEVENT
END:VCALENDAR