BEGIN:VCALENDAR
VERSION:2.0
PRODID:-//SABINE WESPIESER ÉDITEUR - ECPv5.1.0//NONSGML v1.0//EN
CALSCALE:GREGORIAN
METHOD:PUBLISH
X-WR-CALNAME:SABINE WESPIESER ÉDITEUR
X-ORIGINAL-URL:https://www.swediteur.com
X-WR-CALDESC:Évènements pour SABINE WESPIESER ÉDITEUR
BEGIN:VTIMEZONE
TZID:Europe/Paris
BEGIN:DAYLIGHT
TZOFFSETFROM:+0100
TZOFFSETTO:+0200
TZNAME:CEST
DTSTART:20260329T010000
END:DAYLIGHT
BEGIN:STANDARD
TZOFFSETFROM:+0200
TZOFFSETTO:+0100
TZNAME:CET
DTSTART:20261025T010000
END:STANDARD
END:VTIMEZONE
BEGIN:VEVENT
DTSTART;TZID=Europe/Paris:20260418T160000
DTEND;TZID=Europe/Paris:20260418T190000
DTSTAMP:20260420T013431
CREATED:20260302T153852Z
LAST-MODIFIED:20260302T161054Z
UID:48349-1776528000-1776538800@www.swediteur.com
SUMMARY:Yanick Lahens au Festival du Livre de Paris
DESCRIPTION:Yanick Lahens sera présente au Festival du Livre de Paris pour parler de son dernier roman\, Passagères de nuit. \n
URL:https://www.swediteur.com/rencontre/yanick-lahens-au-festival-du-livre-de-paris/
LOCATION:Festival du Livre de Paris\, 7 avenue Winston Churchill\, Paris\, 75008\, France
END:VEVENT
END:VCALENDAR