BEGIN:VCALENDAR
VERSION:2.0
PRODID:-//SABINE WESPIESER ÉDITEUR - ECPv5.1.0//NONSGML v1.0//EN
CALSCALE:GREGORIAN
METHOD:PUBLISH
X-WR-CALNAME:SABINE WESPIESER ÉDITEUR
X-ORIGINAL-URL:https://www.swediteur.com
X-WR-CALDESC:Évènements pour SABINE WESPIESER ÉDITEUR
BEGIN:VTIMEZONE
TZID:Europe/Paris
BEGIN:DAYLIGHT
TZOFFSETFROM:+0100
TZOFFSETTO:+0200
TZNAME:CEST
DTSTART:20260329T010000
END:DAYLIGHT
BEGIN:STANDARD
TZOFFSETFROM:+0200
TZOFFSETTO:+0100
TZNAME:CET
DTSTART:20261025T010000
END:STANDARD
END:VTIMEZONE
BEGIN:VEVENT
DTSTART;TZID=Europe/Paris:20260425T153000
DTEND;TZID=Europe/Paris:20260425T170000
DTSTAMP:20260420T040605
CREATED:20260112T150345Z
LAST-MODIFIED:20260112T150406Z
UID:47769-1777131000-1777136400@www.swediteur.com
SUMMARY:Yassaman Montazami au Festival Entrelivres (Draguignan)
DESCRIPTION:Yassaman Montazami sera présente au festival Entrelivres de Draguignan pour parler de son dernier roman\, « Dans une autre vie ». \n
URL:https://www.swediteur.com/rencontre/yassaman-montazami-au-festival-entrelivres-draguignan/
LOCATION:Draguignan\, France
ATTACH;FMTTYPE=image/jpeg:https://www.swediteur.com/wp-content/uploads/2024/11/Dansuneautrevie.jpg
END:VEVENT
END:VCALENDAR